BEGIN:VCALENDAR
VERSION:2.0
PRODID:-//Tukios.com/
BEGIN:VEVENT
UID:0ed559b6-63df-4a74-9529-d959a2b6907f@www.jenkinsjr.com
DTSTAMP:20260421T181919Z
DTSTART:20260422T150000Z
DTEND:20260423T000000Z
SUMMARY:Viewing
DESCRIPTION:
URL:https://www.jenkinsjr.com/obituaries/craig-lawrence
LOCATION:Joseph Jenkins Jr. Funeral Home 2011 Grayland Ave  Richmond VA 
	23220
GEO:37.5465883;-77.4681358
END:VEVENT
END:VCALENDAR