BEGIN:VCALENDAR
VERSION:2.0
PRODID:-//Tukios.com/
BEGIN:VEVENT
UID:14b5efc3-66ba-4b5c-b0f6-c6e7eef25cec@www.jenkinsjr.com
DTSTAMP:20260421T181648Z
DTSTART:20260423T170000Z
DTEND:20260423T180000Z
SUMMARY:Funeral Service
DESCRIPTION:
URL:https://www.jenkinsjr.com/obituaries/craig-lawrence
LOCATION:Joseph Jenkins Jr. Funeral Home 2011 Grayland Ave  Richmond VA 
	23220
GEO:37.5465883;-77.4681358
END:VEVENT
END:VCALENDAR