BEGIN:VCALENDAR
VERSION:2.0
PRODID:-//Tukios.com/
BEGIN:VEVENT
UID:e1b7a8b6-ed94-45b4-851a-0c38804a80c9@www.jenkinsjr.com
DTSTAMP:20260423T190042Z
DTSTART:20260508T170000Z
DTEND:20260508T180000Z
SUMMARY:Memorial Service
DESCRIPTION:
URL:https://www.jenkinsjr.com/obituaries/joseph-farrell
LOCATION:Joseph Jenkins Jr. Funeral Home 2011 Grayland Ave  Richmond VA 
	23220
GEO:37.5465883;-77.4681358
END:VEVENT
END:VCALENDAR