BEGIN:VCALENDAR
VERSION:2.0
PRODID:-//Tukios.com/
BEGIN:VEVENT
UID:17a26036-c2d9-4a44-a705-199543b3afcb@www.jenkinsjr.com
DTSTAMP:20260420T204631Z
DTSTART:20260426T190000Z
DTEND:20260426T200000Z
SUMMARY:Visitation
DESCRIPTION:
URL:https://www.jenkinsjr.com/obituaries/lloyd-al-hodges
LOCATION:Joseph Jenkins Jr. Funeral Home 2011 Grayland Ave  Richmond VA 
	23220
GEO:37.5465883;-77.4681358
END:VEVENT
END:VCALENDAR