BEGIN:VCALENDAR
VERSION:2.0
PRODID:-//Tukios.com/
BEGIN:VEVENT
UID:8785a27f-3419-4800-b22e-1ebcca649155@www.jenkinsjr.com
DTSTAMP:20260420T204815Z
DTSTART:20260427T150000Z
DTEND:20260427T160000Z
SUMMARY:Funeral Service
DESCRIPTION:
URL:https://www.jenkinsjr.com/obituaries/lloyd-al-hodges
LOCATION:Joseph Jenkins Jr. Funeral Home 2011 Grayland Ave  Richmond VA 
	23220
GEO:37.5465883;-77.4681358
END:VEVENT
END:VCALENDAR