BEGIN:VCALENDAR
VERSION:2.0
PRODID:-//Tukios.com/
BEGIN:VEVENT
UID:721ace11-e7c2-49de-a2c5-bda382e69a5e@www.jenkinsjr.com
DTSTAMP:20260422T235610Z
DTSTART:20260424T143000Z
DTEND:20260424T153000Z
SUMMARY:Janazah Prayer Service
DESCRIPTION:
URL:https://www.jenkinsjr.com/obituaries/ricky-burton
LOCATION: 2011 Grayland Ave  Richmond VA 23220
GEO:37.5465883;-77.4681358
END:VEVENT
END:VCALENDAR