BEGIN:VCALENDAR
VERSION:2.0
PRODID:-//Tukios.com/
BEGIN:VEVENT
UID:eb8862ca-5696-4854-978c-3a081f7006b1@www.jenkinsjr.com
DTSTAMP:20260422T200404Z
DTSTART:20260423T174500Z
DTEND:20260423T184500Z
SUMMARY:Funeral Service
DESCRIPTION:
URL:https://www.jenkinsjr.com/obituaries/tony-wiggins
LOCATION:Masjid Yusuf 8481 Hungary Rd  Glen Allen VA 23060
GEO:37.6463608;-77.5270088
END:VEVENT
END:VCALENDAR